BEGIN:VCALENDAR
VERSION:2.0
PRODID:-//Apium Swarm Robotics - ECPv6.15.20//NONSGML v1.0//EN
CALSCALE:GREGORIAN
METHOD:PUBLISH
X-ORIGINAL-URL:https://apium.com
X-WR-CALDESC:Events for Apium Swarm Robotics
REFRESH-INTERVAL;VALUE=DURATION:PT1H
X-Robots-Tag:noindex
X-PUBLISHED-TTL:PT1H
BEGIN:VTIMEZONE
TZID:UTC
BEGIN:STANDARD
TZOFFSETFROM:+0000
TZOFFSETTO:+0000
TZNAME:UTC
DTSTART:20220101T000000
END:STANDARD
END:VTIMEZONE
BEGIN:VEVENT
DTSTART;VALUE=DATE:20230627
DTEND;VALUE=DATE:20230630
DTSTAMP:20260423T181605
CREATED:20221223T044600Z
LAST-MODIFIED:20221223T044600Z
UID:2043-1687824000-1688083199@apium.com
SUMMARY:Modern Day Marine
DESCRIPTION:
URL:https://apium.com/event/modern-day-marine/
LOCATION:Walter E. Convention Center\, Washington D.C.\, DC\, United States
END:VEVENT
END:VCALENDAR