BEGIN:VCALENDAR
VERSION:2.0
PRODID:-//Apium Swarm Robotics - ECPv6.15.20//NONSGML v1.0//EN
CALSCALE:GREGORIAN
METHOD:PUBLISH
X-WR-CALNAME:Apium Swarm Robotics
X-ORIGINAL-URL:https://apium.com
X-WR-CALDESC:Events for Apium Swarm Robotics
REFRESH-INTERVAL;VALUE=DURATION:PT1H
X-Robots-Tag:noindex
X-PUBLISHED-TTL:PT1H
BEGIN:VTIMEZONE
TZID:UTC
BEGIN:STANDARD
TZOFFSETFROM:+0000
TZOFFSETTO:+0000
TZNAME:UTC
DTSTART:20220101T000000
END:STANDARD
END:VTIMEZONE
BEGIN:VEVENT
DTSTART;VALUE=DATE:20231009
DTEND;VALUE=DATE:20231013
DTSTAMP:20260423T125438
CREATED:20230923T074434Z
LAST-MODIFIED:20230923T074434Z
UID:3219-1696809600-1697155199@apium.com
SUMMARY:Wildlife Conservation Summit
DESCRIPTION:
URL:https://apium.com/event/wildlife-conservation-summit/
LOCATION:Burnet\, Texas\, Burnet\, TX\, United States
END:VEVENT
END:VCALENDAR