BEGIN:VCALENDAR
VERSION:2.0
PRODID:-//Apium Swarm Robotics - ECPv6.15.20//NONSGML v1.0//EN
CALSCALE:GREGORIAN
METHOD:PUBLISH
X-ORIGINAL-URL:https://apium.com
X-WR-CALDESC:Events for Apium Swarm Robotics
REFRESH-INTERVAL;VALUE=DURATION:PT1H
X-Robots-Tag:noindex
X-PUBLISHED-TTL:PT1H
BEGIN:VTIMEZONE
TZID:UTC
BEGIN:STANDARD
TZOFFSETFROM:+0000
TZOFFSETTO:+0000
TZNAME:UTC
DTSTART:20220101T000000
END:STANDARD
END:VTIMEZONE
BEGIN:VEVENT
DTSTART;VALUE=DATE:20231107
DTEND;VALUE=DATE:20231110
DTSTAMP:20260423T112900
CREATED:20230923T074711Z
LAST-MODIFIED:20230923T074711Z
UID:3225-1699315200-1699574399@apium.com
SUMMARY:Future Land Forces
DESCRIPTION:
URL:https://apium.com/event/future-land-forces/
LOCATION:Warsaw\, Poland\, Warsaw\, Poland
END:VEVENT
END:VCALENDAR