BEGIN:VCALENDAR
VERSION:2.0
PRODID:-//Apium Swarm Robotics - ECPv6.15.20//NONSGML v1.0//EN
CALSCALE:GREGORIAN
METHOD:PUBLISH
X-ORIGINAL-URL:https://apium.com
X-WR-CALDESC:Events for Apium Swarm Robotics
REFRESH-INTERVAL;VALUE=DURATION:PT1H
X-Robots-Tag:noindex
X-PUBLISHED-TTL:PT1H
BEGIN:VTIMEZONE
TZID:UTC
BEGIN:STANDARD
TZOFFSETFROM:+0000
TZOFFSETTO:+0000
TZNAME:UTC
DTSTART:20230101T000000
END:STANDARD
END:VTIMEZONE
BEGIN:VEVENT
DTSTART;VALUE=DATE:20241021
DTEND;VALUE=DATE:20241024
DTSTAMP:20260422T201847
CREATED:20241015T014758Z
LAST-MODIFIED:20241015T014758Z
UID:6001-1729468800-1729727999@apium.com
SUMMARY:UTAC
DESCRIPTION:
URL:https://apium.com/event/utac/
END:VEVENT
BEGIN:VEVENT
DTSTART;VALUE=DATE:20241023
DTEND;VALUE=DATE:20241025
DTSTAMP:20260422T201847
CREATED:20241015T014956Z
LAST-MODIFIED:20241015T014956Z
UID:6003-1729641600-1729814399@apium.com
SUMMARY:AUVSI Defense
DESCRIPTION:
URL:https://apium.com/event/auvsi-defense/
END:VEVENT
END:VCALENDAR