BEGIN:VCALENDAR
VERSION:2.0
PRODID:-//Apium Swarm Robotics - ECPv6.15.20//NONSGML v1.0//EN
CALSCALE:GREGORIAN
METHOD:PUBLISH
X-ORIGINAL-URL:https://apium.com
X-WR-CALDESC:Events for Apium Swarm Robotics
REFRESH-INTERVAL;VALUE=DURATION:PT1H
X-Robots-Tag:noindex
X-PUBLISHED-TTL:PT1H
BEGIN:VTIMEZONE
TZID:UTC
BEGIN:STANDARD
TZOFFSETFROM:+0000
TZOFFSETTO:+0000
TZNAME:UTC
DTSTART:20220101T000000
END:STANDARD
END:VTIMEZONE
BEGIN:VTIMEZONE
TZID:America/Los_Angeles
BEGIN:DAYLIGHT
TZOFFSETFROM:-0800
TZOFFSETTO:-0700
TZNAME:PDT
DTSTART:20230312T100000
END:DAYLIGHT
BEGIN:STANDARD
TZOFFSETFROM:-0700
TZOFFSETTO:-0800
TZNAME:PST
DTSTART:20231105T090000
END:STANDARD
BEGIN:DAYLIGHT
TZOFFSETFROM:-0800
TZOFFSETTO:-0700
TZNAME:PDT
DTSTART:20240310T100000
END:DAYLIGHT
BEGIN:STANDARD
TZOFFSETFROM:-0700
TZOFFSETTO:-0800
TZNAME:PST
DTSTART:20241103T090000
END:STANDARD
BEGIN:DAYLIGHT
TZOFFSETFROM:-0800
TZOFFSETTO:-0700
TZNAME:PDT
DTSTART:20250309T100000
END:DAYLIGHT
BEGIN:STANDARD
TZOFFSETFROM:-0700
TZOFFSETTO:-0800
TZNAME:PST
DTSTART:20251102T090000
END:STANDARD
END:VTIMEZONE
BEGIN:VEVENT
DTSTART;VALUE=DATE:20240603
DTEND;VALUE=DATE:20240606
DTSTAMP:20260420T011207
CREATED:20231216T013203Z
LAST-MODIFIED:20231216T013203Z
UID:3677-1717372800-1717631999@apium.com
SUMMARY:CANSEC
DESCRIPTION:
URL:https://apium.com/event/cansec/
END:VEVENT
BEGIN:VEVENT
DTSTART;VALUE=DATE:20240506
DTEND;VALUE=DATE:20240510
DTSTAMP:20260420T011207
CREATED:20231216T013039Z
LAST-MODIFIED:20231216T013039Z
UID:3675-1714953600-1715299199@apium.com
SUMMARY:SOF Week
DESCRIPTION:
URL:https://apium.com/event/sof-week-2/
END:VEVENT
BEGIN:VEVENT
DTSTART;VALUE=DATE:20240429
DTEND;VALUE=DATE:20240503
DTSTAMP:20260420T011207
CREATED:20231216T012955Z
LAST-MODIFIED:20231216T012955Z
UID:3673-1714348800-1714694399@apium.com
SUMMARY:Modern Day Marine
DESCRIPTION:
URL:https://apium.com/event/modern-day-marine-2/
END:VEVENT
BEGIN:VEVENT
DTSTART;VALUE=DATE:20240424
DTEND;VALUE=DATE:20240427
DTSTAMP:20260420T011207
CREATED:20231216T012841Z
LAST-MODIFIED:20231216T012841Z
UID:3671-1713916800-1714175999@apium.com
SUMMARY:AAAA
DESCRIPTION:
URL:https://apium.com/event/aaaa/
END:VEVENT
BEGIN:VEVENT
DTSTART;VALUE=DATE:20240423
DTEND;VALUE=DATE:20240425
DTSTAMP:20260420T011207
CREATED:20231216T012708Z
LAST-MODIFIED:20231216T012708Z
UID:3669-1713830400-1714003199@apium.com
SUMMARY:Wildfire Technology Management Summit
DESCRIPTION:
URL:https://apium.com/event/wildfire-technology-management-summit/
END:VEVENT
BEGIN:VEVENT
DTSTART;VALUE=DATE:20240422
DTEND;VALUE=DATE:20240426
DTSTAMP:20260420T011207
CREATED:20231216T012607Z
LAST-MODIFIED:20231216T012607Z
UID:3667-1713744000-1714089599@apium.com
SUMMARY:AUVSI Xponential
DESCRIPTION:
URL:https://apium.com/event/auvsi-xponential/
END:VEVENT
BEGIN:VEVENT
DTSTART;VALUE=DATE:20240409
DTEND;VALUE=DATE:20240415
DTSTAMP:20260420T011207
CREATED:20231216T012030Z
LAST-MODIFIED:20231216T012455Z
UID:3665-1712620800-1713139199@apium.com
SUMMARY:FIDAE
DESCRIPTION:
URL:https://apium.com/event/fidae/
END:VEVENT
BEGIN:VEVENT
DTSTART;VALUE=DATE:20240301
DTEND;VALUE=DATE:20240302
DTSTAMP:20260420T011207
CREATED:20231216T011925Z
LAST-MODIFIED:20231216T011925Z
UID:3663-1709251200-1709337599@apium.com
SUMMARY:AUSA Global Force
DESCRIPTION:
URL:https://apium.com/event/ausa-global-force/
END:VEVENT
BEGIN:VEVENT
DTSTART;TZID=America/Los_Angeles:20240226T000000
DTEND;TZID=America/Los_Angeles:20240228T000000
DTSTAMP:20260420T011207
CREATED:20250102T220613Z
LAST-MODIFIED:20250102T220613Z
UID:6447-1708905600-1709078400@apium.com
SUMMARY:Drone Show Korea (TBD)
DESCRIPTION:
URL:https://apium.com/event/drone-show-korea-tbd/
END:VEVENT
BEGIN:VEVENT
DTSTART;VALUE=DATE:20240221
DTEND;VALUE=DATE:20240227
DTSTAMP:20260420T011207
CREATED:20231216T011732Z
LAST-MODIFIED:20231216T011732Z
UID:3661-1708473600-1708991999@apium.com
SUMMARY:TR/EX
DESCRIPTION:
URL:https://apium.com/event/tr-ex/
END:VEVENT
BEGIN:VEVENT
DTSTART;VALUE=DATE:20240204
DTEND;VALUE=DATE:20240209
DTSTAMP:20260420T011207
CREATED:20231216T011542Z
LAST-MODIFIED:20231216T011542Z
UID:3659-1707004800-1707436799@apium.com
SUMMARY:World Defense Show
DESCRIPTION:
URL:https://apium.com/event/world-defense-show/
END:VEVENT
BEGIN:VEVENT
DTSTART;VALUE=DATE:20240124
DTEND;VALUE=DATE:20240127
DTSTAMP:20260420T011207
CREATED:20231216T011053Z
LAST-MODIFIED:20231216T011422Z
UID:3657-1706054400-1706313599@apium.com
SUMMARY:SHOT Show
DESCRIPTION:
URL:https://apium.com/event/shot-show/
END:VEVENT
BEGIN:VEVENT
DTSTART;VALUE=DATE:20231205
DTEND;VALUE=DATE:20231208
DTSTAMP:20260420T011207
CREATED:20230923T074925Z
LAST-MODIFIED:20230923T074925Z
UID:3228-1701734400-1701993599@apium.com
SUMMARY:Expodefensa
DESCRIPTION:
URL:https://apium.com/event/expodefensa/
LOCATION:Bogata\, Colombia\, Bogata\, Colombia
END:VEVENT
BEGIN:VEVENT
DTSTART;VALUE=DATE:20231107
DTEND;VALUE=DATE:20231110
DTSTAMP:20260420T011207
CREATED:20230923T074711Z
LAST-MODIFIED:20230923T074711Z
UID:3225-1699315200-1699574399@apium.com
SUMMARY:Future Land Forces
DESCRIPTION:
URL:https://apium.com/event/future-land-forces/
LOCATION:Warsaw\, Poland\, Warsaw\, Poland
END:VEVENT
BEGIN:VEVENT
DTSTART;VALUE=DATE:20231020
DTEND;VALUE=DATE:20231021
DTSTAMP:20260420T011207
CREATED:20230923T074613Z
LAST-MODIFIED:20230923T074613Z
UID:3222-1697760000-1697846399@apium.com
SUMMARY:29 Palms USMC Blue UAS Demo
DESCRIPTION:
URL:https://apium.com/event/29-palms-usmc-blue-uas-demo/
LOCATION:29 Palms\, California\, 29 Palms\, CA\, United States
END:VEVENT
BEGIN:VEVENT
DTSTART;VALUE=DATE:20231009
DTEND;VALUE=DATE:20231013
DTSTAMP:20260420T011207
CREATED:20230923T074434Z
LAST-MODIFIED:20230923T074434Z
UID:3219-1696809600-1697155199@apium.com
SUMMARY:Wildlife Conservation Summit
DESCRIPTION:
URL:https://apium.com/event/wildlife-conservation-summit/
LOCATION:Burnet\, Texas\, Burnet\, TX\, United States
END:VEVENT
BEGIN:VEVENT
DTSTART;VALUE=DATE:20231009
DTEND;VALUE=DATE:20231012
DTSTAMP:20260420T011207
CREATED:20221223T045147Z
LAST-MODIFIED:20221223T045409Z
UID:2049-1696809600-1697068799@apium.com
SUMMARY:AUSA
DESCRIPTION:
URL:https://apium.com/event/ausa/
LOCATION:Walter E. Washington Convention Center\, 801 Mount Vernon Place NW\, Washington\, DC\, United States
END:VEVENT
BEGIN:VEVENT
DTSTART;VALUE=DATE:20231003
DTEND;VALUE=DATE:20231006
DTSTAMP:20260420T011207
CREATED:20230923T074248Z
LAST-MODIFIED:20230923T074248Z
UID:3216-1696291200-1696550399@apium.com
SUMMARY:LD MIcro Investor Event
DESCRIPTION:
URL:https://apium.com/event/ld-micro-investor-event/
LOCATION:Los Angeles\, California\, Los Angeles\, CA\, United States
END:VEVENT
BEGIN:VEVENT
DTSTART;VALUE=DATE:20230926
DTEND;VALUE=DATE:20230930
DTSTAMP:20260420T011207
CREATED:20230923T073825Z
LAST-MODIFIED:20230923T073940Z
UID:3213-1695686400-1696031999@apium.com
SUMMARY:LEDA
DESCRIPTION:
URL:https://apium.com/event/leda/
LOCATION:Bend\, Oregon\, Bend\, OR\, United States
END:VEVENT
BEGIN:VEVENT
DTSTART;VALUE=DATE:20230912
DTEND;VALUE=DATE:20230916
DTSTAMP:20260420T011207
CREATED:20221223T044806Z
LAST-MODIFIED:20221223T044806Z
UID:2046-1694476800-1694822399@apium.com
SUMMARY:DSEI
DESCRIPTION:
URL:https://apium.com/event/dsei/
LOCATION:ExCel London\, London\, United Kingdom
END:VEVENT
BEGIN:VEVENT
DTSTART;VALUE=DATE:20230627
DTEND;VALUE=DATE:20230630
DTSTAMP:20260420T011207
CREATED:20221223T044600Z
LAST-MODIFIED:20221223T044600Z
UID:2043-1687824000-1688083199@apium.com
SUMMARY:Modern Day Marine
DESCRIPTION:
URL:https://apium.com/event/modern-day-marine/
LOCATION:Walter E. Convention Center\, Washington D.C.\, DC\, United States
END:VEVENT
BEGIN:VEVENT
DTSTART;VALUE=DATE:20230616
DTEND;VALUE=DATE:20230618
DTSTAMP:20260420T011207
CREATED:20230322T061745Z
LAST-MODIFIED:20230322T061745Z
UID:2800-1686873600-1687046399@apium.com
SUMMARY:Tough Stump Rodeo
DESCRIPTION:
URL:https://apium.com/event/tough-stump-rodeo/
LOCATION:Upper Canyon Outfitters\, #6 Tate’s Upper Canyon Loop\, Alder\, MT\, 59710\, United States
END:VEVENT
BEGIN:VEVENT
DTSTART;VALUE=DATE:20230508
DTEND;VALUE=DATE:20230512
DTSTAMP:20260420T011207
CREATED:20221223T044233Z
LAST-MODIFIED:20221223T044233Z
UID:2040-1683504000-1683849599@apium.com
SUMMARY:SOF Week
DESCRIPTION:
URL:https://apium.com/event/sof-week/
LOCATION:SOF\, Tampa\, FL\, United States
END:VEVENT
BEGIN:VEVENT
DTSTART;VALUE=DATE:20230426
DTEND;VALUE=DATE:20230429
DTSTAMP:20260420T011207
CREATED:20221223T043832Z
LAST-MODIFIED:20221223T043832Z
UID:2037-1682467200-1682726399@apium.com
SUMMARY:2023 AAAA Summit
DESCRIPTION:
URL:https://apium.com/event/2023-aaaa-summit/
LOCATION:Gaylor Operyland Hotel & Convention Center\, Nashville\, TN\, United States
END:VEVENT
END:VCALENDAR