BEGIN:VCALENDAR
VERSION:2.0
PRODID:-//Apium Swarm Robotics - ECPv6.15.20//NONSGML v1.0//EN
CALSCALE:GREGORIAN
METHOD:PUBLISH
X-WR-CALNAME:Apium Swarm Robotics
X-ORIGINAL-URL:https://apium.com
X-WR-CALDESC:Events for Apium Swarm Robotics
REFRESH-INTERVAL;VALUE=DURATION:PT1H
X-Robots-Tag:noindex
X-PUBLISHED-TTL:PT1H
BEGIN:VTIMEZONE
TZID:UTC
BEGIN:STANDARD
TZOFFSETFROM:+0000
TZOFFSETTO:+0000
TZNAME:UTC
DTSTART:20220101T000000
END:STANDARD
END:VTIMEZONE
BEGIN:VEVENT
DTSTART;VALUE=DATE:20230616
DTEND;VALUE=DATE:20230618
DTSTAMP:20260422T160000
CREATED:20230322T061745Z
LAST-MODIFIED:20230322T061745Z
UID:2800-1686873600-1687046399@apium.com
SUMMARY:Tough Stump Rodeo
DESCRIPTION:
URL:https://apium.com/event/tough-stump-rodeo/
LOCATION:Upper Canyon Outfitters\, #6 Tate’s Upper Canyon Loop\, Alder\, MT\, 59710\, United States
END:VEVENT
BEGIN:VEVENT
DTSTART;VALUE=DATE:20230508
DTEND;VALUE=DATE:20230512
DTSTAMP:20260422T160000
CREATED:20221223T044233Z
LAST-MODIFIED:20221223T044233Z
UID:2040-1683504000-1683849599@apium.com
SUMMARY:SOF Week
DESCRIPTION:
URL:https://apium.com/event/sof-week/
LOCATION:SOF\, Tampa\, FL\, United States
END:VEVENT
BEGIN:VEVENT
DTSTART;VALUE=DATE:20230426
DTEND;VALUE=DATE:20230429
DTSTAMP:20260422T160000
CREATED:20221223T043832Z
LAST-MODIFIED:20221223T043832Z
UID:2037-1682467200-1682726399@apium.com
SUMMARY:2023 AAAA Summit
DESCRIPTION:
URL:https://apium.com/event/2023-aaaa-summit/
LOCATION:Gaylor Operyland Hotel & Convention Center\, Nashville\, TN\, United States
END:VEVENT
END:VCALENDAR