BEGIN:VCALENDAR
VERSION:2.0
PRODID:-//Apium Swarm Robotics - ECPv6.15.20//NONSGML v1.0//EN
CALSCALE:GREGORIAN
METHOD:PUBLISH
X-WR-CALNAME:Apium Swarm Robotics
X-ORIGINAL-URL:https://apium.com
X-WR-CALDESC:Events for Apium Swarm Robotics
REFRESH-INTERVAL;VALUE=DURATION:PT1H
X-Robots-Tag:noindex
X-PUBLISHED-TTL:PT1H
BEGIN:VTIMEZONE
TZID:UTC
BEGIN:STANDARD
TZOFFSETFROM:+0000
TZOFFSETTO:+0000
TZNAME:UTC
DTSTART:20230101T000000
END:STANDARD
END:VTIMEZONE
BEGIN:VEVENT
DTSTART;VALUE=DATE:20240603
DTEND;VALUE=DATE:20240606
DTSTAMP:20260423T001847
CREATED:20231216T013203Z
LAST-MODIFIED:20231216T013203Z
UID:3677-1717372800-1717631999@apium.com
SUMMARY:CANSEC
DESCRIPTION:
URL:https://apium.com/event/cansec/
END:VEVENT
BEGIN:VEVENT
DTSTART;VALUE=DATE:20240617
DTEND;VALUE=DATE:20240622
DTSTAMP:20260423T001847
CREATED:20231216T013257Z
LAST-MODIFIED:20231216T013257Z
UID:3679-1718582400-1719014399@apium.com
SUMMARY:Eurosatory
DESCRIPTION:
URL:https://apium.com/event/eurosatory/
END:VEVENT
END:VCALENDAR