BEGIN:VCALENDAR
VERSION:2.0
PRODID:-//Apium Swarm Robotics - ECPv6.15.20//NONSGML v1.0//EN
CALSCALE:GREGORIAN
METHOD:PUBLISH
X-ORIGINAL-URL:https://apium.com
X-WR-CALDESC:Events for Apium Swarm Robotics
REFRESH-INTERVAL;VALUE=DURATION:PT1H
X-Robots-Tag:noindex
X-PUBLISHED-TTL:PT1H
BEGIN:VTIMEZONE
TZID:America/Los_Angeles
BEGIN:DAYLIGHT
TZOFFSETFROM:-0800
TZOFFSETTO:-0700
TZNAME:PDT
DTSTART:20240310T100000
END:DAYLIGHT
BEGIN:STANDARD
TZOFFSETFROM:-0700
TZOFFSETTO:-0800
TZNAME:PST
DTSTART:20241103T090000
END:STANDARD
BEGIN:DAYLIGHT
TZOFFSETFROM:-0800
TZOFFSETTO:-0700
TZNAME:PDT
DTSTART:20250309T100000
END:DAYLIGHT
BEGIN:STANDARD
TZOFFSETFROM:-0700
TZOFFSETTO:-0800
TZNAME:PST
DTSTART:20251102T090000
END:STANDARD
BEGIN:DAYLIGHT
TZOFFSETFROM:-0800
TZOFFSETTO:-0700
TZNAME:PDT
DTSTART:20260308T100000
END:DAYLIGHT
BEGIN:STANDARD
TZOFFSETFROM:-0700
TZOFFSETTO:-0800
TZNAME:PST
DTSTART:20261101T090000
END:STANDARD
END:VTIMEZONE
BEGIN:VEVENT
DTSTART;VALUE=DATE:20250114
DTEND;VALUE=DATE:20250116
DTSTAMP:20260422T151027
CREATED:20251217T233452Z
LAST-MODIFIED:20251217T233452Z
UID:8107-1736812800-1736985599@apium.com
SUMMARY:CAF WEPTAC 2026
DESCRIPTION:Nellis AFB Las Vegas NV
URL:https://apium.com/event/caf-weptac-2026/
END:VEVENT
BEGIN:VEVENT
DTSTART;TZID=America/Los_Angeles:20250121T000000
DTEND;TZID=America/Los_Angeles:20250124T000000
DTSTAMP:20260422T151027
CREATED:20250102T220612Z
LAST-MODIFIED:20250102T220612Z
UID:6443-1737417600-1737676800@apium.com
SUMMARY:SHOT Show
DESCRIPTION:
URL:https://apium.com/event/shot-show-2/
END:VEVENT
BEGIN:VEVENT
DTSTART;TZID=America/Los_Angeles:20250128T000000
DTEND;TZID=America/Los_Angeles:20250130T000000
DTSTAMP:20260422T151027
CREATED:20250102T220612Z
LAST-MODIFIED:20250102T220612Z
UID:6444-1738022400-1738195200@apium.com
SUMMARY:WEST 2025 (TBD)
DESCRIPTION:
URL:https://apium.com/event/west-2025-tbd/
END:VEVENT
END:VCALENDAR