BEGIN:VCALENDAR
VERSION:2.0
PRODID:-//Apium Swarm Robotics - ECPv6.15.20//NONSGML v1.0//EN
CALSCALE:GREGORIAN
METHOD:PUBLISH
X-ORIGINAL-URL:https://apium.com
X-WR-CALDESC:Events for Apium Swarm Robotics
REFRESH-INTERVAL;VALUE=DURATION:PT1H
X-Robots-Tag:noindex
X-PUBLISHED-TTL:PT1H
BEGIN:VTIMEZONE
TZID:America/Los_Angeles
BEGIN:DAYLIGHT
TZOFFSETFROM:-0800
TZOFFSETTO:-0700
TZNAME:PDT
DTSTART:20240310T100000
END:DAYLIGHT
BEGIN:STANDARD
TZOFFSETFROM:-0700
TZOFFSETTO:-0800
TZNAME:PST
DTSTART:20241103T090000
END:STANDARD
BEGIN:DAYLIGHT
TZOFFSETFROM:-0800
TZOFFSETTO:-0700
TZNAME:PDT
DTSTART:20250309T100000
END:DAYLIGHT
BEGIN:STANDARD
TZOFFSETFROM:-0700
TZOFFSETTO:-0800
TZNAME:PST
DTSTART:20251102T090000
END:STANDARD
BEGIN:DAYLIGHT
TZOFFSETFROM:-0800
TZOFFSETTO:-0700
TZNAME:PDT
DTSTART:20260308T100000
END:DAYLIGHT
BEGIN:STANDARD
TZOFFSETFROM:-0700
TZOFFSETTO:-0800
TZNAME:PST
DTSTART:20261101T090000
END:STANDARD
END:VTIMEZONE
BEGIN:VEVENT
DTSTART;TZID=America/Los_Angeles:20250505T000000
DTEND;TZID=America/Los_Angeles:20250509T000000
DTSTAMP:20260422T095400
CREATED:20250102T220625Z
LAST-MODIFIED:20250102T220625Z
UID:6455-1746403200-1746748800@apium.com
SUMMARY:SOF Week
DESCRIPTION:
URL:https://apium.com/event/sof-week-3/
END:VEVENT
BEGIN:VEVENT
DTSTART;TZID=America/Los_Angeles:20250513T000000
DTEND;TZID=America/Los_Angeles:20250515T000000
DTSTAMP:20260422T095400
CREATED:20250102T220625Z
LAST-MODIFIED:20250102T220625Z
UID:6456-1747094400-1747267200@apium.com
SUMMARY:LANPAC
DESCRIPTION:
URL:https://apium.com/event/lanpac/
END:VEVENT
BEGIN:VEVENT
DTSTART;TZID=America/Los_Angeles:20250514T000000
DTEND;TZID=America/Los_Angeles:20250516T000000
DTSTAMP:20260422T095400
CREATED:20250102T220625Z
LAST-MODIFIED:20250102T220625Z
UID:6457-1747180800-1747353600@apium.com
SUMMARY:AAAA
DESCRIPTION:
URL:https://apium.com/event/aaaa-2/
END:VEVENT
END:VCALENDAR