BEGIN:VCALENDAR
VERSION:2.0
PRODID:-//Apium Swarm Robotics - ECPv6.15.20//NONSGML v1.0//EN
CALSCALE:GREGORIAN
METHOD:PUBLISH
X-ORIGINAL-URL:https://apium.com
X-WR-CALDESC:Events for Apium Swarm Robotics
REFRESH-INTERVAL;VALUE=DURATION:PT1H
X-Robots-Tag:noindex
X-PUBLISHED-TTL:PT1H
BEGIN:VTIMEZONE
TZID:America/Los_Angeles
BEGIN:DAYLIGHT
TZOFFSETFROM:-0800
TZOFFSETTO:-0700
TZNAME:PDT
DTSTART:20240310T100000
END:DAYLIGHT
BEGIN:STANDARD
TZOFFSETFROM:-0700
TZOFFSETTO:-0800
TZNAME:PST
DTSTART:20241103T090000
END:STANDARD
BEGIN:DAYLIGHT
TZOFFSETFROM:-0800
TZOFFSETTO:-0700
TZNAME:PDT
DTSTART:20250309T100000
END:DAYLIGHT
BEGIN:STANDARD
TZOFFSETFROM:-0700
TZOFFSETTO:-0800
TZNAME:PST
DTSTART:20251102T090000
END:STANDARD
BEGIN:DAYLIGHT
TZOFFSETFROM:-0800
TZOFFSETTO:-0700
TZNAME:PDT
DTSTART:20260308T100000
END:DAYLIGHT
BEGIN:STANDARD
TZOFFSETFROM:-0700
TZOFFSETTO:-0800
TZNAME:PST
DTSTART:20261101T090000
END:STANDARD
END:VTIMEZONE
BEGIN:VEVENT
DTSTART;VALUE=DATE:20251010
DTEND;VALUE=DATE:20251013
DTSTAMP:20260422T025203
CREATED:20250813T200622Z
LAST-MODIFIED:20250813T200622Z
UID:7395-1760054400-1760313599@apium.com
SUMMARY:Fleet Week
DESCRIPTION:San Francisco
URL:https://apium.com/event/fleet-week/
END:VEVENT
BEGIN:VEVENT
DTSTART;VALUE=DATE:20251013
DTEND;VALUE=DATE:20251016
DTSTAMP:20260422T025203
CREATED:20250813T200622Z
LAST-MODIFIED:20250813T200622Z
UID:7396-1760313600-1760572799@apium.com
SUMMARY:AUSA Annual
DESCRIPTION:Washington DC
URL:https://apium.com/event/ausa-annual-3/
END:VEVENT
BEGIN:VEVENT
DTSTART;TZID=America/Los_Angeles:20251022T000000
DTEND;TZID=America/Los_Angeles:20251022T000000
DTSTAMP:20260422T025203
CREATED:20250102T220725Z
LAST-MODIFIED:20250102T220725Z
UID:6464-1761091200-1761091200@apium.com
SUMMARY:Expodefensa
DESCRIPTION:
URL:https://apium.com/event/expodefensa-2/
END:VEVENT
BEGIN:VEVENT
DTSTART;VALUE=DATE:20251027
DTEND;VALUE=DATE:20251031
DTSTAMP:20260422T025203
CREATED:20250813T200623Z
LAST-MODIFIED:20250813T200623Z
UID:7397-1761523200-1761868799@apium.com
SUMMARY:UTAC
DESCRIPTION:Perry\, GA
URL:https://apium.com/event/utac-2/
END:VEVENT
END:VCALENDAR