BEGIN:VCALENDAR
VERSION:2.0
PRODID:-//Apium Swarm Robotics - ECPv6.15.20//NONSGML v1.0//EN
CALSCALE:GREGORIAN
METHOD:PUBLISH
X-ORIGINAL-URL:https://apium.com
X-WR-CALDESC:Events for Apium Swarm Robotics
REFRESH-INTERVAL;VALUE=DURATION:PT1H
X-Robots-Tag:noindex
X-PUBLISHED-TTL:PT1H
BEGIN:VTIMEZONE
TZID:America/Los_Angeles
BEGIN:DAYLIGHT
TZOFFSETFROM:-0800
TZOFFSETTO:-0700
TZNAME:PDT
DTSTART:20250309T100000
END:DAYLIGHT
BEGIN:STANDARD
TZOFFSETFROM:-0700
TZOFFSETTO:-0800
TZNAME:PST
DTSTART:20251102T090000
END:STANDARD
BEGIN:DAYLIGHT
TZOFFSETFROM:-0800
TZOFFSETTO:-0700
TZNAME:PDT
DTSTART:20260308T100000
END:DAYLIGHT
BEGIN:STANDARD
TZOFFSETFROM:-0700
TZOFFSETTO:-0800
TZNAME:PST
DTSTART:20261101T090000
END:STANDARD
BEGIN:DAYLIGHT
TZOFFSETFROM:-0800
TZOFFSETTO:-0700
TZNAME:PDT
DTSTART:20270314T100000
END:DAYLIGHT
BEGIN:STANDARD
TZOFFSETFROM:-0700
TZOFFSETTO:-0800
TZNAME:PST
DTSTART:20271107T090000
END:STANDARD
END:VTIMEZONE
BEGIN:VEVENT
DTSTART;VALUE=DATE:20260901
DTEND;VALUE=DATE:20260904
DTSTAMP:20260420T010236
CREATED:20251217T233524Z
LAST-MODIFIED:20251217T233524Z
UID:8123-1788220800-1788479999@apium.com
SUMMARY:Commercial UAV
DESCRIPTION:Las Vegas\, NV
URL:https://apium.com/event/commercial-uav-2/
END:VEVENT
BEGIN:VEVENT
DTSTART;VALUE=DATE:20260914
DTEND;VALUE=DATE:20260917
DTSTAMP:20260420T010236
CREATED:20251217T233525Z
LAST-MODIFIED:20251217T233525Z
UID:8124-1789344000-1789603199@apium.com
SUMMARY:Air\, Space\, & Cyber Conference
DESCRIPTION:National Harbor\, MD
URL:https://apium.com/event/air-space-cyber-conference/
END:VEVENT
BEGIN:VEVENT
DTSTART;VALUE=DATE:20260922
DTEND;VALUE=DATE:20260923
DTSTAMP:20260420T010236
CREATED:20251217T233525Z
LAST-MODIFIED:20251217T233525Z
UID:8125-1790035200-1790121599@apium.com
SUMMARY:Bourbon\, Bullets\, Barbecue
DESCRIPTION:Ardmore\, TN
URL:https://apium.com/event/bourbon-bullets-barbecue/
END:VEVENT
END:VCALENDAR